BEGIN:VCALENDAR
VERSION:2.0
PRODID:-//Arizona Builders Alliance - ECPv6.15.12.2//NONSGML v1.0//EN
CALSCALE:GREGORIAN
METHOD:PUBLISH
X-ORIGINAL-URL:https://azbuilders.org
X-WR-CALDESC:Events for Arizona Builders Alliance
REFRESH-INTERVAL;VALUE=DURATION:PT1H
X-Robots-Tag:noindex
X-PUBLISHED-TTL:PT1H
BEGIN:VTIMEZONE
TZID:America/Phoenix
BEGIN:STANDARD
TZOFFSETFROM:-0700
TZOFFSETTO:-0700
TZNAME:MST
DTSTART:20250101T000000
END:STANDARD
END:VTIMEZONE
BEGIN:VEVENT
DTSTART;TZID=America/Phoenix:20260604T160000
DTEND;TZID=America/Phoenix:20260604T180000
DTSTAMP:20260424T085123
CREATED:20251121T182752Z
LAST-MODIFIED:20260327T220743Z
UID:10000143-1780588800-1780596000@azbuilders.org
SUMMARY:Member Mixer: CORE Construction
DESCRIPTION:
URL:https://azbuilders.org/event/member-mixer-core-construction/
CATEGORIES:Networking,Scottsdale
END:VEVENT
BEGIN:VEVENT
DTSTART;TZID=America/Phoenix:20260611T081000
DTEND;TZID=America/Phoenix:20260611T101000
DTSTAMP:20260424T085123
CREATED:20260331T201944Z
LAST-MODIFIED:20260331T203301Z
UID:10000290-1781165400-1781172600@azbuilders.org
SUMMARY:YBC Builder's Banter 2026 | Session 2
DESCRIPTION:Builder’s Banter is a course created to help construction professionals strengthen their public speaking skills. \n\n\n\nWhile not everyone will deliver formal speeches or present to large audiences\, most of us will eventually represent our companies in project interviews\, coordination meetings\, or multi‑trade partner discussions – moments where clear\, confident communication truly matters. At some point\, each of us will speak in front of our peers\, and being prepared makes all the difference. \n\n\n\nIf you’re looking to build confidence and communicate more effectively in group settings\, Builder’s Banter is designed for you. \n\n\n\nThroughout the course\, you’ll learn practical strategies to: \n\n\n\n▪ Manage public‑speaking anxiety▪ Avoid common pitfalls▪ Strengthen your delivery and use visual aids effectively▪ Practice impromptu speaking across a variety of topics▪ Apply constructive feedback to support your growth▪ Recognize and build on your strengths to boost confidence and refine your skills \n\n\n\nBy the end of the program\, you’ll walk away with the tools and confidence to communicate with clarity\, credibility\, and impact. \n\n\n\nImportant Notes▪ Registration is limited to 20 participants.▪ Attendance to all six courses is mandatory to receive a completion certificate.▪ Plan for 1.5-hour sessions on class days and 2-hour sessions on speech days \n\n\n\nInterested in signing up or getting involved?Reach out to the Chair of the Education Committee with any questions:Courtney Kovach\, cekovach@sundt.com \n\n\n\n\nEvent Info\n\n\n\nThe course will run May – October on the following dates:May 7\, 2026June 11\, 2026July 16\, 2026 – Speech #1August 6\, 2026September 17\, 2026October 15\, 2026 – Speech #2Time: 8:10 AM – 10:10 AMLocation: Arizona Builders Alliance Training CenterAddress: 1475 N Scottsdale Rd\, Suite 120\, Scottsdale\, AZ 85257
URL:https://azbuilders.org/event/builders-banter-2026-session-2/
CATEGORIES:Networking,Scottsdale
END:VEVENT
END:VCALENDAR