BEGIN:VCALENDAR
VERSION:2.0
PRODID:-//Arizona Builders Alliance - ECPv6.15.12.2//NONSGML v1.0//EN
CALSCALE:GREGORIAN
METHOD:PUBLISH
X-WR-CALNAME:Arizona Builders Alliance
X-ORIGINAL-URL:https://azbuilders.org
X-WR-CALDESC:Events for Arizona Builders Alliance
REFRESH-INTERVAL;VALUE=DURATION:PT1H
X-Robots-Tag:noindex
X-PUBLISHED-TTL:PT1H
BEGIN:VTIMEZONE
TZID:America/Phoenix
BEGIN:STANDARD
TZOFFSETFROM:-0700
TZOFFSETTO:-0700
TZNAME:MST
DTSTART:20250101T000000
END:STANDARD
END:VTIMEZONE
BEGIN:VEVENT
DTSTART;TZID=America/Phoenix:20260806T081000
DTEND;TZID=America/Phoenix:20260806T101000
DTSTAMP:20260424T122134
CREATED:20260331T202217Z
LAST-MODIFIED:20260331T203321Z
UID:10000292-1786003800-1786011000@azbuilders.org
SUMMARY:YBC Builder's Banter 2026 | Session 4
DESCRIPTION:Builder’s Banter is a course created to help construction professionals strengthen their public speaking skills. \n\n\n\nWhile not everyone will deliver formal speeches or present to large audiences\, most of us will eventually represent our companies in project interviews\, coordination meetings\, or multi‑trade partner discussions – moments where clear\, confident communication truly matters. At some point\, each of us will speak in front of our peers\, and being prepared makes all the difference. \n\n\n\nIf you’re looking to build confidence and communicate more effectively in group settings\, Builder’s Banter is designed for you. \n\n\n\nThroughout the course\, you’ll learn practical strategies to: \n\n\n\n▪ Manage public‑speaking anxiety▪ Avoid common pitfalls▪ Strengthen your delivery and use visual aids effectively▪ Practice impromptu speaking across a variety of topics▪ Apply constructive feedback to support your growth▪ Recognize and build on your strengths to boost confidence and refine your skills \n\n\n\nBy the end of the program\, you’ll walk away with the tools and confidence to communicate with clarity\, credibility\, and impact. \n\n\n\nImportant Notes▪ Registration is limited to 20 participants.▪ Attendance to all six courses is mandatory to receive a completion certificate.▪ Plan for 1.5-hour sessions on class days and 2-hour sessions on speech days \n\n\n\nInterested in signing up or getting involved?Reach out to the Chair of the Education Committee with any questions:Courtney Kovach\, cekovach@sundt.com \n\n\n\n\nEvent Info\n\n\n\nThe course will run May – October on the following dates:May 7\, 2026June 11\, 2026July 16\, 2026 – Speech #1August 6\, 2026September 17\, 2026October 15\, 2026 – Speech #2Time: 8:10 AM – 10:10 AMLocation: Arizona Builders Alliance Training CenterAddress: 1475 N Scottsdale Rd\, Suite 120\, Scottsdale\, AZ 85257
URL:https://azbuilders.org/event/builders-banter-2026-session-4/
CATEGORIES:Networking,Scottsdale
END:VEVENT
BEGIN:VEVENT
DTSTART;TZID=America/Phoenix:20260813T140000
DTEND;TZID=America/Phoenix:20260813T150000
DTSTAMP:20260424T122134
CREATED:20260331T163137Z
LAST-MODIFIED:20260331T184443Z
UID:10000285-1786629600-1786633200@azbuilders.org
SUMMARY:YBC New Member Orientation | Fall Session
DESCRIPTION:Get Connected with the Young Builders Council \n\n\n\nWhether you’re brand‑new to the Young Builders Council or just want a quick refresher on everything your membership offers\, this is your chance to plug in\, meet the community\, and start making the most of your experience. \n\n\n\nWhy Attend? \n\n\n\n▪ Explore the full range of YBC membership benefits▪ Meet the YBC Executive Team and learn about their vision▪ Get introduced to each committee and find the one that aligns with your interests▪ Start building meaningful connections with fellow young professionals \n\n\n\nJoin us and discover how to maximize your membership\, grow your network\, and get involved in ways that matter to you. \n\n\n\n\nEvent Info\n\n\n\nDate: August 13\, 2026Time: 2:00 PM – 3:00 PMLocation: Arizona Builders Alliance Training CenterAddress: 1475 N Scottsdale Rd\, Suite 120\, Scottsdale\, AZ 85257
URL:https://azbuilders.org/event/ybc-new-member-orientation-3/
CATEGORIES:Networking,Scottsdale
END:VEVENT
BEGIN:VEVENT
DTSTART;TZID=America/Phoenix:20260813T150000
DTEND;TZID=America/Phoenix:20260813T170000
DTSTAMP:20260424T122134
CREATED:20260331T165446Z
LAST-MODIFIED:20260331T165548Z
UID:10000286-1786633200-1786640400@azbuilders.org
SUMMARY:YBC Q3 Member Meeting & Mixer
DESCRIPTION:Mix\, Mingle\, and Make Connections with YBC \n\n\n\nReady to expand your network\, reconnect with familiar faces\, and meet the newest members of the Young Builders Council? Our YBC Member Mixer is the perfect place to unwind\, spark new conversations\, and strengthen your ties within the industry. \n\n\n\nWhat to Expect \n\n\n\n▪ Build relationships with fellow young professionals in the construction industry▪ Catch up with the YBC Executive Team and committee leaders▪ Learn about upcoming events\, initiatives\, and ways to get involved▪ Enjoy a relaxed\, social atmosphere designed to help you grow your network naturally \n\n\n\nWhether you’ve been part of YBC for years or you’re just getting started\, this is your space to connect\, collaborate\, and have a great time with your peers. \n\n\n\n\nEvent Info\n\n\n\nDate: August 13\, 2026Time: 3:00 PM – 5:00 PMLocation: Arizona Builders Alliance Training CenterAddress: 1475 N Scottsdale Rd\, Suite 120\, Scottsdale\, AZ 85257
URL:https://azbuilders.org/event/ybc-q3-member-mixer/
CATEGORIES:Networking,Scottsdale
END:VEVENT
END:VCALENDAR