BEGIN:VCALENDAR
VERSION:2.0
PRODID:-//Arizona Builders Alliance - ECPv6.15.12.2//NONSGML v1.0//EN
CALSCALE:GREGORIAN
METHOD:PUBLISH
X-ORIGINAL-URL:https://azbuilders.org
X-WR-CALDESC:Events for Arizona Builders Alliance
REFRESH-INTERVAL;VALUE=DURATION:PT1H
X-Robots-Tag:noindex
X-PUBLISHED-TTL:PT1H
BEGIN:VTIMEZONE
TZID:America/Phoenix
BEGIN:STANDARD
TZOFFSETFROM:-0700
TZOFFSETTO:-0700
TZNAME:MST
DTSTART:20250101T000000
END:STANDARD
END:VTIMEZONE
BEGIN:VEVENT
DTSTART;TZID=America/Phoenix:20260303T080000
DTEND;TZID=America/Phoenix:20260304T170000
DTSTAMP:20260422T072828
CREATED:20260114T084034Z
LAST-MODIFIED:20260114T183157Z
UID:10000149-1772524800-1772643600@azbuilders.org
SUMMARY:Blueprint Reading
DESCRIPTION:
URL:https://azbuilders.org/event/blueprint-reading-2/
CATEGORIES:Scottsdale
END:VEVENT
BEGIN:VEVENT
DTSTART;TZID=America/Phoenix:20260304T110000
DTEND;TZID=America/Phoenix:20260304T150000
DTSTAMP:20260422T072828
CREATED:20260114T101305Z
LAST-MODIFIED:20260327T223518Z
UID:10000270-1772622000-1772636400@azbuilders.org
SUMMARY:Supervisory Training Program
DESCRIPTION:
URL:https://azbuilders.org/event/supervisory-training-program-2/2026-03-04/
CATEGORIES:Scottsdale
END:VEVENT
BEGIN:VEVENT
DTSTART;TZID=America/Phoenix:20260306T113000
DTEND;TZID=America/Phoenix:20260306T133000
DTSTAMP:20260422T072828
CREATED:20260202T222914Z
LAST-MODIFIED:20260217T184451Z
UID:10000224-1772796600-1772803800@azbuilders.org
SUMMARY:Thriving Minds\, Thriving Teams: Real Talk on Mental Health in Construction
DESCRIPTION:Seminar Description \n\n\n\nHuman resource and safety professionals sit on the front lines of workforce wellbeing in construction. From jobsite safety and compliance to employee support and retention\, mental health plays a direct role in how people perform\, communicate\, and stay safe. \n\n\n\nThriving Minds\, Thriving Teams: Real Talk on Mental Health in Construction is designed specifically for HR and safety leaders in the commercial construction industry. This seminar provides a clear\, no-nonsense look at the mental health challenges impacting today’s workforce and how those challenges show up through incidents\, absenteeism\, disengagement\, and turnover. \n\n\n\nThe session will explore why mental health is now a critical risk and readiness issue\, how stress at work and at home affects behavior on the job\, and the role healthy relationships play in building safer\, more resilient teams. Participants will learn practical\, field-appropriate tools to support employees\, manage stress\, and reinforce a culture where people are more focused\, present\, and accountable.  \n\n\n\nKey Takeaways \n\n\n\nConnect Mental Health to Safety\, Performance\, and RiskUnderstand how mental health challenges influence jobsite behavior\, decision-making\, safety outcomes\, and overall workforce readiness. \n\n\n\nSpot Stress Early and Strengthen Team CultureLearn how to identify common stressors affecting construction employees and why strong relationships and communication are essential to safer\, more engaged teams. \n\n\n\nUse Practical Tools HR and Safety Leaders Can Apply ImmediatelyGain realistic strategies and simple tools to support employees\, reduce stress\, and reinforce mentally healthy habits without overcomplicating existing safety and HR processes. \n\n\n\n\nEvent Info\n\n\n\nDate: March 6\, 2026 | 11:30 AM – 1:30 PMLocation: Arizona Builders Alliance Training Center | 1475 N Scottsdale Rd\, Suite 120\, Scottsdale\, AZ 85257 \n\n\n\n\n\n\n\n\n\n\n\n\n\n\n\n\n\n\n\n\n\n\nTHANK YOU TO OUR SPONSOR!
URL:https://azbuilders.org/event/thriving-minds-thriving-team-real-talk-on-mental-health-in-construction/
CATEGORIES:Scottsdale
END:VEVENT
BEGIN:VEVENT
DTSTART;TZID=America/Phoenix:20260311T110000
DTEND;TZID=America/Phoenix:20260311T150000
DTSTAMP:20260422T072828
CREATED:20260114T101305Z
LAST-MODIFIED:20260327T223518Z
UID:10000271-1773226800-1773241200@azbuilders.org
SUMMARY:Supervisory Training Program
DESCRIPTION:
URL:https://azbuilders.org/event/supervisory-training-program-2/2026-03-11/
CATEGORIES:Scottsdale
END:VEVENT
BEGIN:VEVENT
DTSTART;TZID=America/Phoenix:20260312T140000
DTEND;TZID=America/Phoenix:20260312T150000
DTSTAMP:20260422T072828
CREATED:20260223T185524Z
LAST-MODIFIED:20260223T185919Z
UID:10000238-1773324000-1773327600@azbuilders.org
SUMMARY:YBC New Member Orientation
DESCRIPTION:Whether you’re new to the Young Builders Council or looking for a quick refresher on all the benefits your membership includes\, don’t miss this opportunity to get connected!LOCATION: ABA Headquarters\, 1475 N. Scottsdale Road\, Suite 140\, Scottsdale\, AZ 85257This orientation is the perfect way to:Learn more about the YBC and your membership benefitsMeet the YBC Executive TeamGet to know the committees and find one that fits your interestsStart building relationships with fellow membersJoin us to discover how to get the most out of your membership!
URL:https://azbuilders.org/event/ybc-new-member-orientation-2/
CATEGORIES:Scottsdale
END:VEVENT
BEGIN:VEVENT
DTSTART;TZID=America/Phoenix:20260312T150000
DTEND;TZID=America/Phoenix:20260312T170000
DTSTAMP:20260422T072828
CREATED:20260127T214508Z
LAST-MODIFIED:20260127T214512Z
UID:10000219-1773327600-1773334800@azbuilders.org
SUMMARY:YBC Quarterly Meeting & Mixer
DESCRIPTION:
URL:https://azbuilders.org/event/ybc-quarterly-meeting-mixer/
CATEGORIES:Scottsdale
END:VEVENT
BEGIN:VEVENT
DTSTART;TZID=America/Phoenix:20260313T080000
DTEND;TZID=America/Phoenix:20260313T170000
DTSTAMP:20260422T072828
CREATED:20260114T170456Z
LAST-MODIFIED:20260327T223742Z
UID:10000189-1773388800-1773421200@azbuilders.org
SUMMARY:Leadership Development Forum
DESCRIPTION:
URL:https://azbuilders.org/event/leadership-development-forum-2/2026-03-13/
CATEGORIES:Scottsdale
END:VEVENT
BEGIN:VEVENT
DTSTART;TZID=America/Phoenix:20260313T080000
DTEND;TZID=America/Phoenix:20260313T170000
DTSTAMP:20260422T072828
CREATED:20260114T171720Z
LAST-MODIFIED:20260327T223419Z
UID:10000198-1773388800-1773421200@azbuilders.org
SUMMARY:Women In Leadership
DESCRIPTION:
URL:https://azbuilders.org/event/women-in-leadership-2/2026-03-13/
CATEGORIES:Scottsdale
END:VEVENT
BEGIN:VEVENT
DTSTART;TZID=America/Phoenix:20260318T110000
DTEND;TZID=America/Phoenix:20260318T150000
DTSTAMP:20260422T072828
CREATED:20260114T101305Z
LAST-MODIFIED:20260327T223518Z
UID:10000272-1773831600-1773846000@azbuilders.org
SUMMARY:Supervisory Training Program
DESCRIPTION:
URL:https://azbuilders.org/event/supervisory-training-program-2/2026-03-18/
CATEGORIES:Scottsdale
END:VEVENT
BEGIN:VEVENT
DTSTART;TZID=America/Phoenix:20260320T131000
DTEND;TZID=America/Phoenix:20260320T160000
DTSTAMP:20260422T072828
CREATED:20260211T192411Z
LAST-MODIFIED:20260305T172625Z
UID:10000235-1774012200-1774022400@azbuilders.org
SUMMARY:YBC Spring Training Game-SOLD OUT
DESCRIPTION:YBC Capitol Tour\n\n\nThis event is restricted to Young Builders Council members only. To learn more about the YBC\, click here.\n\n\n\nEvent Info \n\n\n\nDate: March 20th\, 2026 | 1:05pmLocation: Sloan Park (Cubs Spring Training Facility)2510 W. Rio Salado ParkwayMesa\, AZ 85201 \n\n\n\n\n\n\n\nIt’s time to trade hard hats for ball caps! Join us for the YBC Spring Training Game\, a complimentary annual event exclusive to Young Builders Committee members. Enjoy a hot dog\, a cold drink\, and great baseball at Sloan Park\, home of the Chicago Cubs\, as they take on the Cincinnati Reds. \n\n\n\nEach YBC member may RSVP for one spot. Attendance is limited to the first 60 registrants. A $60 cancellation fee will apply for no-shows or cancellations made within 7 days of the event.
URL:https://azbuilders.org/event/ybc-spring-training-game/
CATEGORIES:Scottsdale
END:VEVENT
BEGIN:VEVENT
DTSTART;TZID=America/Phoenix:20260324T080000
DTEND;TZID=America/Phoenix:20260324T170000
DTSTAMP:20260422T072828
CREATED:20260114T093737Z
LAST-MODIFIED:20260327T223214Z
UID:10000155-1774339200-1774371600@azbuilders.org
SUMMARY:Emerging Leaders Forum
DESCRIPTION:
URL:https://azbuilders.org/event/emerging-leaders-forum-2/2026-03-24/
CATEGORIES:Scottsdale
END:VEVENT
BEGIN:VEVENT
DTSTART;TZID=America/Phoenix:20260325T110000
DTEND;TZID=America/Phoenix:20260325T150000
DTSTAMP:20260422T072828
CREATED:20260114T101305Z
LAST-MODIFIED:20260327T223518Z
UID:10000273-1774436400-1774450800@azbuilders.org
SUMMARY:Supervisory Training Program
DESCRIPTION:
URL:https://azbuilders.org/event/supervisory-training-program-2/2026-03-25/
CATEGORIES:Scottsdale
END:VEVENT
END:VCALENDAR