BEGIN:VCALENDAR
VERSION:2.0
PRODID:-//Arizona Builders Alliance - ECPv6.15.12.2//NONSGML v1.0//EN
CALSCALE:GREGORIAN
METHOD:PUBLISH
X-ORIGINAL-URL:https://azbuilders.org
X-WR-CALDESC:Events for Arizona Builders Alliance
REFRESH-INTERVAL;VALUE=DURATION:PT1H
X-Robots-Tag:noindex
X-PUBLISHED-TTL:PT1H
BEGIN:VTIMEZONE
TZID:America/Phoenix
BEGIN:STANDARD
TZOFFSETFROM:-0700
TZOFFSETTO:-0700
TZNAME:MST
DTSTART:20250101T000000
END:STANDARD
END:VTIMEZONE
BEGIN:VEVENT
DTSTART;TZID=America/Phoenix:20260422T080000
DTEND;TZID=America/Phoenix:20260422T170000
DTSTAMP:20260422T035909
CREATED:20260114T100033Z
LAST-MODIFIED:20260119T214255Z
UID:10000164-1776844800-1776877200@azbuilders.org
SUMMARY:Supervisory Training Program
DESCRIPTION:
URL:https://azbuilders.org/event/supervisory-training-program/
CATEGORIES:Scottsdale
END:VEVENT
BEGIN:VEVENT
DTSTART;TZID=America/Phoenix:20260424T080000
DTEND;TZID=America/Phoenix:20260424T140000
DTSTAMP:20260422T035909
CREATED:20260310T201706Z
LAST-MODIFIED:20260310T202134Z
UID:10000242-1777017600-1777039200@azbuilders.org
SUMMARY:Kickball Tournament
DESCRIPTION:
URL:https://azbuilders.org/event/kickball-tournament/
CATEGORIES:Scottsdale
END:VEVENT
BEGIN:VEVENT
DTSTART;TZID=America/Phoenix:20260428T083000
DTEND;TZID=America/Phoenix:20260428T153000
DTSTAMP:20260422T035909
CREATED:20260114T093737Z
LAST-MODIFIED:20260327T223214Z
UID:10000259-1777365000-1777390200@azbuilders.org
SUMMARY:Emerging Leaders Forum
DESCRIPTION:
URL:https://azbuilders.org/event/emerging-leaders-forum-2/2026-04-28/
CATEGORIES:Scottsdale
END:VEVENT
END:VCALENDAR