BEGIN:VCALENDAR
VERSION:2.0
PRODID:-//Arizona Builders Alliance - ECPv6.15.12.2//NONSGML v1.0//EN
CALSCALE:GREGORIAN
METHOD:PUBLISH
X-WR-CALNAME:Arizona Builders Alliance
X-ORIGINAL-URL:https://azbuilders.org
X-WR-CALDESC:Events for Arizona Builders Alliance
REFRESH-INTERVAL;VALUE=DURATION:PT1H
X-Robots-Tag:noindex
X-PUBLISHED-TTL:PT1H
BEGIN:VTIMEZONE
TZID:America/Phoenix
BEGIN:STANDARD
TZOFFSETFROM:-0700
TZOFFSETTO:-0700
TZNAME:MST
DTSTART:20240101T000000
END:STANDARD
END:VTIMEZONE
BEGIN:VEVENT
DTSTART;TZID=America/Phoenix:20250717T163000
DTEND;TZID=America/Phoenix:20250717T183000
DTSTAMP:20260421T032028
CREATED:20250702T210942Z
LAST-MODIFIED:20251121T153616Z
UID:10000003-1752769800-1752777000@azbuilders.org
SUMMARY:2025 ABA Tucson Summer Mixer
DESCRIPTION:Thursday\, July 17\, 2025 | 4:30-6:30 pmLocation: Whiskey Roads2290 W. Ina Road\, Tucson\, AZ  85741 \n\n\n\nDrink Sponsor: $700 (Includes four drink tickets\, logo on drink tickets\, large logo on promotional material\, emails\, website\, and event signage. \n\n\n\nTop Sponsor: $500 (Includes four drink tickets and large logo on all promotional material\, emails\, website\, and event signage.)  \n\n\n\nElite Sponsor: $300 (Includes two drink tickets and medium logo on all promotional material\, emails\, website\, and event signage.) \n\n\n\nEvent Sponsor: $100 (Includes small logo on all promotional material\, emails\, website\, and event signage.) \n\n\n\nThis is an excellent opportunity to network with top industry professionals. And…don’t forget your business cards! \n\n\n\nNETWORKING | APPETIZERS | 50/50 RAFFLE | FREE RAFFLE \n\n\n\n\n\n\n\n\n\n\n\n\n\n\n\n\n\n\n\nDRINK Sponsor\n\n\n\n\n\n\n\n\n\n\n\n\n\n\n\n\n\n\n\n\n\n\n\nTOP Sponsors\n\n\n\n\n\n\n\n\n\n\n\n\n\n\n\n\n\n\n\n\n\n\n\n\n\n\n\n\n\n\n\n\n\n\n\n\n\n\n\n\n\n\n\n\n\n\n\n\n\n\n\n\n\n\n\n\n\n\n\nELITE Sponsors\n\n\n\n\n\n\n\n\n\n\n\n\n\n\n\n\n\n\n\n\n\n\n\n\n\n\n\nEVENT Sponsors\n\n\n\n\n\n\n\n\n\n\n\n\n\n\n\n\n\n\n\n\n\n\n\n\n\n\n\n\n\n\n\n\n\n\n\n\n\n\n\n\n\n\n\nSIGN Sponsor\n\n\n\n\n\n\n\n\n\n\n\n\n\n\n\n\n\n\n\n\n\n\n\n\n\n\n\n\n\nPurchase Your Ticket
URL:https://azbuilders.org/event/2025-aba-tucson-summer-mixer-2/
CATEGORIES:Tucson
END:VEVENT
BEGIN:VEVENT
DTSTART;TZID=America/Phoenix:20250725T080000
DTEND;TZID=America/Phoenix:20250725T100000
DTSTAMP:20260421T032028
CREATED:20250627T213718Z
LAST-MODIFIED:20250627T213718Z
UID:10000017-1753430400-1753437600@azbuilders.org
SUMMARY:Builders Balance Kayak Paddle Board Salt River
DESCRIPTION:ABA Apprenticeship Graduation\n\n\nJuly 25th\, 2025 | 7:30AM-11AM \n\n\n\nLOCATION: Salt River Saguaro Lake Guest Ranch13020 N Bush HwyMesa\, AZ. 85215 \n\n\n\n\n\n\n\nJoin us on July 25th for a fun-filled day of kayaking and paddle boarding on the beautiful Salt River !\n\n\n\nWhether you’re a seasoned pro on the water or trying it out for the first time\, this is the perfect way to cool off\, connect with fellow members\, and enjoy the Arizona summer in style. Bring your sunscreen\, your adventurous spirit\, and get ready for a laid-back day on the water. \n\n\n\n\n\n\n\n\n\n\n\n\n\n\n\n\n\n\n\n\n\n\n\n\n\n\n\nEquipment + Shuttle:\n\n\n\nWe will be using Saguaro Lake Guest Ranch for the coordination of parking\, rentals\, launch\, and shuttling us back \n\n\n\nAvailable activities: \n\n\n\n\nKayaking\n\n\n\nPaddle Boarding\n\n\n\n\nRENT HERE: \n\n\n\nhttps://www.saguarolakeranch.com/kayak-paddleboard \n\n\n\n**MAKE SURE TO BOOK THE SELF-GUIDED\, TWO HOUR TOUR (FOXTAIL)\, LAUNCHING AT 8AM.** \n\n\n\nIMPORTANT INFORMATION ABOUT BRINGING YOUR OWN EQUIPMENT: \n\n\n\nIf you choose to bring your own equipment\, you will be required to pay a $15 per vehicle parking fee + $5 equipment fee. You will also be required to stage your own vehicle at the exit of the river. \n\n\n\nBOOK SELF LAUNCH:\n\n\n\nhttps://book.peek.com/s/23230c2c-ab3c-4445-b03b-919dd276189e/XjM2D \n\n\n\n \n\n\n\nIF YOU HAVE ANY QUESTIONS – EMAIL NIKKI RUTLEDGE – NRUTLEDGE@AZBUILDERS.ORG \n\n\n\n\n\n\n\nMeet Us Here!\n\n\n\nSaguaro Lake Guest Ranch @ Salt River \n\n\n\n\n         \n\n\n\n\n\n\n\nReserve Your Spot
URL:https://azbuilders.org/event/builders-balance-kayak-paddle-board-salt-river/
CATEGORIES:Scottsdale
END:VEVENT
BEGIN:VEVENT
DTSTART;TZID=America/Phoenix:20250731T080000
DTEND;TZID=America/Phoenix:20250731T110000
DTSTAMP:20260421T032028
CREATED:20250627T214238Z
LAST-MODIFIED:20250627T214238Z
UID:10000018-1753948800-1753959600@azbuilders.org
SUMMARY:OSHA Inspections\, What to Know\, What to Expect
DESCRIPTION:ABA Apprenticeship Graduation\n\n\nJuly 31\, 2025\, 8-11am\n\n\n\nLocation: ABA Office:1661 N. Swan\, #144\, Tucson\, AZ 85712 \n\n\n\nIncludes: continental breakfast and material \n\n\n\nOffered virtual upon request: gmaldonado@azbuilders.org \n\n\n\n\n\n\n\nHave you ever been involved in an inspection by OSHA or a state plan equivalent\, such as ADOSH? Would you know what to do if they arrived at your site\, who to call\, what they can do\, or what they should do? Did you know that you may be cited under certain circumstances\, even though you may not have had any employees of your own\, exposed to the hazard? Join us for an informative session\, designed to help give you additional information about the process of dealing with OSHA.\n\n\n\nThe session will cover: \n\n\n\n\nBasic OSHA information\n\n\n\nWhat gets OSHA onto or into your worksite\n\n\n\nWhat are the employer/employee roles and responsibilities\n\n\n\nThe inspection process\n\n\n\nMulti-employer concerns\n\n\n\nPost inspection processes\n\n\n\n\nThe discussion will cover Important information regarding an OSHA inspection and what to do if an OSHA inspector shows up. Just as important\, the steps to take following an inspection and what options are available to employers with respect to alleged violations. \n\n\n\n\n\nLed By\n\n\n\n\n\n\n\n\n\nMARK D. NORTON\, MAOM\, RSP\, CSSM\n\n\n\nNorton Safety Services \n\n\n\n\n\n\n\n\n\nROBBY GARVEY\, PROJECT DIRECTOR\n\n\n\nLloyd Construction \n\n\n\n\n\n\n\nReserve Your Spot
URL:https://azbuilders.org/event/osha-inspections-what-to-know-what-to-expect/
CATEGORIES:Tucson
END:VEVENT
END:VCALENDAR